BEGIN:VCALENDAR
VERSION:2.0
CALSCALE:GREGORIAN
METHOD:PUBLISH
BEGIN:VEVENT
SUMMARY:Voir GRAND au quotidien! Identifie ta meilleure OPPORTUNITE IMMEDI
 ATE!
DTSTART:20240517T100000Z
DTEND:20240517T120000Z
DTSTAMP:20260421T172409Z
CATEGORIES:
DESCRIPTION:\n	Coach Blum is back! Session exceptionnelle pour trouver ton
  tremplin! Je te coacherai comme lors des sessions de HAPPY CEO! \n\nLes 
 transformations du dernier groupe étaient tellement fortes! Posture\, rev
 e\, projet\, resultats\n\nLes participants et participantes assument vraim
 ent leur posture de dirigeant! Ils ont compris que l’enjeu n'était  pa
 s que dans les projets. \n\nOui j'ai un énorme passé de dirigeant de mu
 ltinationale en marketing/commercial. Oui j'ai lancé des milliers de prod
 uits/services\n\nEt je sais que ce n'est pas que là l'enjeu. Ca ne suffit
  pas d'avoir des projets! Il faut les connecter à toi. Ton équipe si tu 
 en as une. C’est plus profond. C'est ma sensibilité qui me sert tout le
  temps en plus. \n\nTu dois allier savoir faire et savoir être...sinon t
 a boite ne décollera jamais ou tu vas vraiment ramer!  On ne te l'a peut
 -être jamais dit comme ça…\n\nOn bossera la dessus lors du workshop et
  tu repartiras avec clarté sur ton plan et ton focus! Si tu participes ac
 tivement live car avec Coach Blum ce qui compte c’est le présent! \n\n
 Aucun replay de la session d’ailleurs car on garde les infos partagées 
 confidentielles! \n\nJe t'attends.\n\nCoach BLUM\n\nSi tu me découvres j
 e suis Coach Blum ! Fondateur du programme HAPPY CEO pour dirigeants d'ent
 reprise de petite taille ( de 1 à 15 personnes ) mais avec une très gran
 de ambition. Dans tous secteurs par exemple finance\, tech\, ad\, vidéo\,
  développement durable\, mode\, coaching\, consulting\, women empowerment
 \, santé\, dentisterie\, pharma. Mon talent: se servir de la dynamique de
  groupe pour avancer encore plus vite\, encore plus fort! Viens essayer au
  workshop!\n\n	 \n\n	 \n\n	 \n
LOCATION:   
ORGANIZER:B2NewBiz Coaching
END:VEVENT
END:VCALENDAR
