BEGIN:VCALENDAR
VERSION:2.0
CALSCALE:GREGORIAN
METHOD:PUBLISH
BEGIN:VEVENT
SUMMARY:workshop 11 avril : renforcez votre posture pour aller vendre
DTSTART:20240411T093000Z
DTEND:20240411T113000Z
DTSTAMP:20260421T170909Z
CATEGORIES:
DESCRIPTION:\nVendre oups! Ca en bloque beaucoup. Et c'est embetant pour d
 évelopper votre activité. Il faut toujours vendre en interne ou en exter
 ne. \n\nVenez travailler votre posture\, essayer des approches différent
 es avec lesquelles vous vous sentirez plus à l'aise. C'ets un hyper sensi
 ble qui parle....\n\nOui j'ai un énorme passé de multinationale en marke
 ting et commercial et pourtant c'est ma sensibilité qui me sert aussi tou
 t le temps. \n\nVenez développer la votre et avancer sur le sujet. Si vo
 us voulez le parfait manule du vendeur allez directement sur internet sur 
 Youtube... De mon cote on a travaillé autrement en partant de VOUS!!! La 
 suite...venez voir. \n\nAucun replay. \n\nJe t'attends.\n\n	Coach BLUM\n
 \n	 \n\nImportant: chez Coach BLUM on ne juge personne\, on bosse\, on av
 ance...dans la bonne humeur!! ...\n\nje suis un optimiste. Je sais que tu 
 peux y arriver mais il faut bosser. Alors viens\, monte dans le train!! \n
 \n	 \n
LOCATION:   
ORGANIZER:B2NewBiz Coaching
END:VEVENT
END:VCALENDAR
