BEGIN:VCALENDAR
VERSION:2.0
CALSCALE:GREGORIAN
METHOD:PUBLISH
BEGIN:VEVENT
SUMMARY:workshop 10 avril : transformez enfin votre rêve en un projet con
 cret
DTSTART:20240410T100000Z
DTEND:20240410T120000Z
DTSTAMP:20260421T170958Z
CATEGORIES:
DESCRIPTION:\nJ'accompagne beaucoup de clients qui ont énormément de rê
 ves. Leur réalité: ils ne passent pas assez vite à l'action car dès qu
 'ils entament quelque chose ils pensent à autre chose.\n\nJ'adore ces pro
 fils car ce sont toujours des personnes géniales\, attachantes et pleines
  d'idées...voire trop d'idées.....\n\nJe les aide à transformer et rend
 re concret. C'est vrai que toutes mes milliers d’heures de direction mar
 keting m'aident car c'était mon quotidien. La tête dans les étoiles je 
 connais mais je sais surtout en faire quelque chose. Et dans un temps reco
 rd. \n\nViens transformer tes rêves en réalité.\n\nJe t'attends.\n\n	C
 oach BLUM\n\n	 \n\nImportant: chez Coach BLUM on ne juge personne\, on bo
 sse\, on avance...dans la bonne humeur!! ...\n\nje suis un optimiste. Je s
 ais que tu peux y arriver mais il faut bosser. Alors viens\, monte dans le
  train!! \n\n	 \n
LOCATION:   
ORGANIZER:B2NewBiz Coaching
END:VEVENT
END:VCALENDAR
