BEGIN:VCALENDAR
VERSION:2.0
CALSCALE:GREGORIAN
METHOD:PUBLISH
BEGIN:VEVENT
SUMMARY:WORKSHOP 9 avril : OSEZ parler de vos projets ambitieux 
DTSTART:20240409T090000Z
DTEND:20240409T110000Z
DTSTAMP:20260421T170957Z
CATEGORIES:
DESCRIPTION:\nOn ose pas! On a des idées\, des envies mais l'environnemen
 t ne nous aide pas. On en a assez d'entendre ca ne marchera \, tu n'es fai
 t pour ca. \n\nSTOP! Arrête d'écouter tous ces mauvais conseils pour to
 i. Vas y! Fonce. Pose tes idées\, partage les  les et lance toi. \n\nOn
  va bosser la dessus pour t'aider à passer à l'étape suivante de ton pr
 ojet. \n\n	 \n\nImportant: chez Coach BLUM on ne juge personne\, on boss
 e\, on avance...dans la bonne humeur!! ...\n\nje suis un optimiste. Je sai
 s que tu peux y arriver mais il faut bosser. Alors viens\, monte dans le t
 rain!! \n\n	 \n
LOCATION:   
ORGANIZER:B2NewBiz Coaching
END:VEVENT
END:VCALENDAR
