BEGIN:VCALENDAR
VERSION:2.0
CALSCALE:GREGORIAN
METHOD:PUBLISH
BEGIN:VEVENT
SUMMARY:Explore ta créativité à travers la couture !
DTSTART:20240323T150000Z
DTEND:20240323T150000Z
DTSTAMP:20260421T163637Z
CATEGORIES:
DESCRIPTION:\n\n\n\n\n\n\n\n\n\n\n\nRejoigns-moi dans cet atelier de coutu
 re où je te guiderai dans l'utilisation de la machine à coudre et t'ens
 eignerai les points de couture essentiels pour concrétiser tes projets. D
 e plus\, je te montrerai comment utiliser les outils de base nécessaires 
 à la couture et je partagerai quelques astuces personnelles pour rendre l
 e processus plus fluide.\n \n Déroulement de l'atelier :\n\nThéorie : 
 Présentation de la machine à coudre\, de ses fonctions et des différent
 s points de couture.\nPratique : Exercices de couture pour maîtriser les 
 différents points sur du tissu.\nProjet final : Création d'une petite po
 chette\, que tu emporteras fièrement chez toi !\n\n \nJe te guiderai à 
 chaque étape\, de la théorie à la pratique\, pour que tu puisses dével
 opper tes compétences de couture avec confiance.\nRéservez dès maintena
 nt votre place dans notre atelier et commencez votre voyage vers l'express
 ion créative à travers la couture !\n\n\n\n\n\n\n\n\n\n\n\n\n\n\n \n\n
GEO:45.7420692;4.839729999999999
LOCATION:124 Avenue Jean Jaurès 69007 Lyon - FR
ORGANIZER:Victoria Flores
END:VEVENT
END:VCALENDAR
