BEGIN:VCALENDAR
VERSION:2.0
CALSCALE:GREGORIAN
METHOD:PUBLISH
BEGIN:VEVENT
SUMMARY:TRIO DE L’AMOUR
DTSTART:20240209T220000Z
DTSTAMP:20260420T141448Z
CATEGORIES:
DESCRIPTION:
GEO:45.698938;4.947071
LOCATION: 69800 Saint-Priest - FR
ORGANIZER:JOBILAHY
END:VEVENT
END:VCALENDAR
