BEGIN:VCALENDAR
VERSION:2.0
CALSCALE:GREGORIAN
METHOD:PUBLISH
BEGIN:VEVENT
SUMMARY:KAF MALBAR à Lyon
DTSTART:20240223T213000Z
DTEND:20240224T040000Z
DTSTAMP:20260425T164837Z
CATEGORIES:
DESCRIPTION:\n\n\n\n\n\n\nPLUS DE PRÉVENTE DISPO\n\n							 \n\nBILLETTE
 RIE DIRECTEMENT SUR PLACE : 30 €\n\n\n\n\n\n\n\n	 \n
LOCATION:4 rue calmette 69740 Genas - FR
ORGANIZER:Bolon Events
END:VEVENT
END:VCALENDAR
