BEGIN:VCALENDAR
VERSION:2.0
CALSCALE:GREGORIAN
METHOD:PUBLISH
BEGIN:VEVENT
SUMMARY:Ateliers au magasin Créattitude 
DTSTART:20240228T090000Z
DTEND:20240619T080000Z
DTSTAMP:20260419T125644Z
CATEGORIES:
DESCRIPTION:\nÉveillez votre créativité !\n\n	C'est l'occasion de cr
 éer votre décoration en macramé\, en famille\, entre ami.e.s ou entre
  collègues.\n\n	 \n\n	Durant cet atelier\, je vous montrerai pas à pas 
 les noeuds de base en macramé et quelques déclinaisons pour une créatio
 n unique.\n\n	 \n\n	Durée de l’atelier : selon la date et la création
  choisie\, 2 à 3 heures sont nécéssaires.\n\n	 \n\n	- Mercredi 28/02 |
  10h-13h - Suspension murale (base baguette en bois\, coton écru)\n\n	- 
 Mercredi 27/03 | 10h-12h - Porte plante (base anneau en bois\, coton écr
 u et jute)\n\n	- Mercredi 24 Avril | 10-13h - Suspension murale (base tri
 angle en métal\, coton terracotta)\n\n	- Mercredi 29 Mai | 10h-12h - Port
 e plante (base baguette en bois\, coton écru)\n\n	- Mercredi 19 Juin | 1
 0h-13h - Attrape reve (base cercle en métal\, coton écru)\n\n	 \n\n	A 
 qui s’adresse le cours ? A tout le monde\, vous n’avez pas besoin de c
 onnaissances au préalable\, simplement le désir d’apprendre.\n\n	 \n\
 n	Où ça ? Au magasin Créattitude\, 45 Rue Guillaume de Machaut 85000 La
  Roche sur Yon\n\n	 \n\n	Tout le matériel est bien sûr fourni pour la c
 réation.\n\n	 \n\n	 \n\nIMPORTANT :  Il s'agit d'un atelier UNIQUEMENT
  sur réservation.\n\n	 \n\n	À bientôt !\n\n	Mélissa - WHYKNOTMELISSA
  \n
LOCATION:45 Rue Guillaume de Machaut 85000 La Roche Sur Yon - FR
ORGANIZER:WHYKNOTMELISSA
END:VEVENT
END:VCALENDAR
