BEGIN:VCALENDAR
VERSION:2.0
CALSCALE:GREGORIAN
METHOD:PUBLISH
BEGIN:VEVENT
SUMMARY:Tournoi du Muscat de Lunel édition 2024
DTSTART:20240518T060000Z
DTEND:20240520T160000Z
DTSTAMP:20260423T014656Z
CATEGORIES:
DESCRIPTION:
LOCATION:201 Chem. des Cabanettes 34400 Lunel - FR
ORGANIZER:Basket Pays de Lunel 
END:VEVENT
END:VCALENDAR
