BEGIN:VCALENDAR
VERSION:2.0
CALSCALE:GREGORIAN
METHOD:PUBLISH
BEGIN:VEVENT
SUMMARY:Le Club de Développement
DTSTART:20240123T073000Z
DTEND:20241126T073000Z
DTSTAMP:20260422T135442Z
CATEGORIES:
DESCRIPTION:\nVous êtes dirigeant de TPE\, consultant\, auto-entrepreneur
 \, free-lance ?\n\n	Vous souhaitez donnez un coup d'accélérateur au dév
 eloppement de votre entreprise :\n\n✓ Capitaliser sur vos apprentissages
  des derniers mois\n	✓ Prendre du recul et sortir de l’isolement\n	✓
  Bénéficier d'écoute et de partages d'expériences entre pairs et expé
 rimenter l’intelligence collective\n	✓ Accroître votre business et vo
 tre qualité de vie\n\n✓ Avoir les idées plus claires\n\nVenez vivre l'
 expérience du comité de direction externalisé. \n\nCette journée de tr
 avail structurée vous permettra de : \n\n✓ Bénéficier d'avis et de pa
 rtages de pairs pour vous faire gagner du temps et ouvrir le champ des pos
 sibles\n	✓ Vous sentir dynamisé\n	✓ Avoir de la clarté sur vos objec
 tifs et comment les atteindre\n	✓ Passer plus rapidement à l'action\n\n
 Avançons ensemble grâce à l'intelligence collective\, dans un cadre cha
 leureux\, confidentiel et bienveillant.\n\nInfos pratiques : \n\n	Horaires
  8h30-17h30\n\n	Lieu : Hotel Ibis Chalon Nord\, rue Paul Vachet\, 71100 Ch
 alon sur Saône (sortie A6 Chalon Nord\, sur le parking du Courtepaille)\n
LOCATION:Rue Paul Vachet 71100 Chalon sur Saône - FR
ORGANIZER:Aurkella
END:VEVENT
END:VCALENDAR
