BEGIN:VCALENDAR
VERSION:2.0
CALSCALE:GREGORIAN
METHOD:PUBLISH
BEGIN:VEVENT
SUMMARY:Soirée label YOTANKA : ELISAPIE + MESPARROW + SAMBA DE LA MUERTE
DTSTART:20240405T183000Z
DTEND:20240406T000000Z
DTSTAMP:20260422T181731Z
CATEGORIES:
DESCRIPTION:\n	Figures Libres présente une soirée avec trois artistes du
  label YOTANKA \n\n	Vendredi 05 avril \n\nELISAPIE\n\n	L’artiste venue
  du Grand Nord\, Elisapie\, est depuis plusieurs années une ambassadrice 
 incontournable des voix autochtones\, elle incarne une élégance musicale
  certaine et un féminisme en avance sur son temps. Avec ce nouveau disque
 \, la chanteuse qui a grandi à Salluit\, un petit village du Nunavik\, la
  région la plus au nord du Québec\, revient sur son enfance et adolescen
 ce en explorant ses titres préférés qui l’ont vue s’émanciper en t
 ant que femme et en tant qu’artiste.\n\nMESPARROW\n\n	Poésie de l’int
 ime\, danse des corps et des machines\, Mesparrow sort son quatrième albu
 m\, L’essence vagabonde. Elle y boucle sa voix pour devenir\, à elle se
 ule\, un choeur de femmes.\n\nSAMBA DE LA MUERTE\n\n	Pour Samba de la Muer
 te\, la musique est ce médian permettant de s’orienter dans l’espace\
 , de le traverser afin d’aller au-delà des contrées connues\, traçant
  le chemin d’une création et d’une inspiration libre\, indépendante\
 , sans frontière de genre\, porteuse d’ une matière sonore qui ne cess
 e d’évoluer. Expérimenter encore\, aller plus loin\, repousser les lim
 ites et la prise de risque.\n\n	Ouverture des portes 20h30 - Prix libre\n\
 n	Bar sur place\, ramène ton gobelet !\n
LOCATION:8 rue césar de Vendôme 41100 Vendôme - FR
ORGANIZER:Figures Libres 
END:VEVENT
END:VCALENDAR
