BEGIN:VCALENDAR
VERSION:2.0
CALSCALE:GREGORIAN
METHOD:PUBLISH
BEGIN:VEVENT
SUMMARY:Matinée stratégique : intégrer les neurosciences pour diriger d
 ans l’inconnu
DTSTART:20240208T074500Z
DTEND:20240208T130000Z
DTSTAMP:20260420T141424Z
CATEGORIES:
DESCRIPTION:1 matinée expérientielle pour les dirigeants et les managers
 ...  Alternance de propos enrichissants et scientifiques et d’échanges
  de pratiques permettant d’avancer sur les problématiques de votre quot
 idien ou vos réflexion en cours. L'intervenant\, Dr.Bernard Anselem vous 
 conduira à travers un voyage captivant au cœur de la neuropsychologie\, 
 partageant ses connaissances et expertises pour enrichir votre expérience
 .
GEO:45.314727;5.596776999999999
LOCATION:495 Rue du Pommarin 38340 Voreppe - FR
ORGANIZER:Cap ou pas cap ?
END:VEVENT
END:VCALENDAR
