BEGIN:VCALENDAR
VERSION:2.0
CALSCALE:GREGORIAN
METHOD:PUBLISH
BEGIN:VEVENT
SUMMARY:Visitez le fournil Maison Botten !
DTSTART:20240121T120000Z
DTEND:20240128T154500Z
DTSTAMP:20260421T163803Z
CATEGORIES:
DESCRIPTION:Explorez les coulisses de notre fournil à Benfeld ! \nAprès 
 notre victoire de la finale Grand Est de l'émission "La Meilleure Boulang
 erie de France" diffusée sur M6\, nous vous ouvrons nos portes deux diman
 ches après-midi du mois de janvier. Plongez pendant 1 heure dans l'art de
  la boulangerie traditionnelle et (re)découvrez tout notre savoir-faire.
  \nAu programme : visite guidée et animée par Julien Bottenmuller\, le 
 fondateur des boulangeries Maison Botten et dégustation de notre fameux p
 ain rouge d'Alsace et notre tarte nuage. \nLes visites sont gratuites\, m
 ais les places sont limitées. Réservez dès maintenant votre billet pour
  une expérience immersive au cœur de nos boulangeries. Nous sommes impat
 ients de partager avec vous notre passion ! \n \nDate : dimanche 21 et 2
 8 janvier 2024\nDurée de la visite : 1h \nNombre de participants par vis
 ite : 10\nAdresse : 2 Rue de l'Ancienne Prte\, 67230 Benfeld\n 
GEO:48.3706781;7.593433500000002
LOCATION:2 Rue de l'Ancienne Porte 67230 Benfeld - FR
ORGANIZER:Maison Botten
END:VEVENT
END:VCALENDAR
