BEGIN:VCALENDAR
VERSION:2.0
CALSCALE:GREGORIAN
METHOD:PUBLISH
BEGIN:VEVENT
SUMMARY:Les Lignes de la Main
DTSTART:20231109T170000Z
DTEND:20231109T200000Z
DTSTAMP:20260421T163803Z
CATEGORIES:
DESCRIPTION:\n	LES LIGNES DE LA MAIN\, REFLETS DE DESTIN\n\n	Atelier anim
 é par Saphyr-Denis MANCEAU le jeudi 9 novembre 2023 - Accueil à 17 H 30 
 au Skema Business School à Sophia Antipolis\n\n	La chirologie nous fait v
 oir comment notre passé affecte notre présent et conditionne notre aveni
 r. Nous venons au monde avec des signes et lignes distinctifs dans les mai
 ns\, qui évoluent en fonction de nos expériences de vie et notre façon 
 de réagir à celle-ci. En prenant conscience de notre façon d'aimer\, de
  penser et d'agir\, nous avons le pouvoir de développer nos forces\, de d
 épasser nos faiblesses et d'améliorer les aspects de notre vie que nous 
 souhaitons.\n
LOCATION:60 rue Fédor Dostoïevski 06560 SOPHIA ANTIPOLIS - FR
ORGANIZER:NOUV'ELLES
END:VEVENT
END:VCALENDAR
