BEGIN:VCALENDAR
VERSION:2.0
CALSCALE:GREGORIAN
METHOD:PUBLISH
BEGIN:VEVENT
SUMMARY:Rencontres du Mentorat 2023 by Rezoo X Forinov
DTSTART:20231215T073000Z
DTEND:20231215T143000Z
DTSTAMP:20260419T125644Z
CATEGORIES:
DESCRIPTION:\n\n\n\n\n\n\nLe réseau Forinov est convaincu que le mentor
 at est un levier de développement personnel et économique pour les entre
 preneurs. C'est pourquoi\, nous signerons une convention de partenariat av
 ec le Moovjee\, membre de Rezoo lors des Rencontres du Mentorat le 15 d
 écembre 2023.\n\n\n\n\n\n\n\n\n\n\n\n\n\nVenez découvrir le mentorat by 
 Rezoo et embarquez dans l'aventure lors des\n\n																		 \n\n\n
 \nRencontres du Mentorat\n\nVendredi 15 décembre\n\nde 8h30 à 14h30\n\n
 chez Bpifrance\n\n8 Boulevard Haussmann 75009\n\n\n\n\n																	 
 \n\nLe rendez-vous annuel pour la communauté des mentors \nsoutenu par 
 Bpifrance et l'association GSC.\n\n																	 \n\n\n\n\n\nBienve
 illance\, écoute\, partage\, confiance et authenticité ce sont plus de 
 900 mentors  réunis autour de ces valeurs.\n\nVous êtes animés par le
 s mêmes valeurs ? Rejoignez-nous !\n\n													 \n\n\n200 places dis
 ponibles\n\nRéservez votre place dès maintenant\n\nEn tant qu'entreprene
 ur(e)\,  cet événement est gratuit pour vous. \n\n												 \n\nD
 écouvrez la programmation...\n\n												 \n\n8h30 : Accueil et peti
 t déjeuner\n\n9h00 : Plénière d'ouverture\n\n9h30 : Ateliers sur le M
 entorat\n\n11h00 : Conférence inspirante\n\n12h30 : Cocktail déjeunato
 ire\n\n												 \n\n												 \n\n\n\nPlus d'informations sur la 
 6ème édition des Rencontres du Mentorat sur notre site :\n\nwww.reseaume
 ntorat.fr/rencontres-mentorat-2023/\n\n\n\n\n\n\n\n								 \n\n\n							
  \n\n\n\n\n\n\n\n	 \n
LOCATION:8 bd Haussmann 75009 Paris - FR
ORGANIZER:Rezoo
END:VEVENT
END:VCALENDAR
