BEGIN:VCALENDAR
VERSION:2.0
CALSCALE:GREGORIAN
METHOD:PUBLISH
BEGIN:VEVENT
SUMMARY:Comprendre et libérer vos blocages profonds
DTSTART:20260429T180000Z
DTEND:20260429T193000Z
DTSTAMP:20260424T151716Z
CATEGORIES:
DESCRIPTION:Bonjour à tous\,\nJe suis Christophe Rouhaud\, magnétiseur\,
  guérisseur et médium. Je vous invite à une conférence en ligne dédi
 ée à la compréhension des énergies qui nous entourent et aux blocages 
 qui peuvent entraver notre chemin de vie.\nQue ces freins soient liés à 
 votre enfance\, à des événements marquants ou à des héritages plus lo
 intains (karmiques et transgénérationnels)\, cette session est conçue p
 our vous apporter des clés de compréhension.\nAu programme de ce moment 
 d'échange :\n\n\nLe fonctionnement des énergies et de leurs impacts.\n\n
 \nIdentifier l'origine d'un blocage (physique\, psychique ou énergétique
 ).\n\n\nComment parvenir à se libérer.\n\n\nTemps de questions/réponses
 .\n\n\nInformations pratiques :\n\n\nLieu : En ligne (Lien envoyé par mai
 l après inscription).\n\n\nDurée : Environ 1h30.\n\n\nConfidentialité :
  Pour respecter l'intimité de chacun\, cette session se déroule dans un 
 cadre bienveillant et sécurisé.\n\n
LOCATION:  
ORGANIZER:Christophe Rouhaud
END:VEVENT
END:VCALENDAR
